BEGIN:VCALENDAR
VERSION:2.0
PRODID:-//Aksum&#039;s Coffee - ECPv6.15.14//NONSGML v1.0//EN
CALSCALE:GREGORIAN
METHOD:PUBLISH
X-WR-CALNAME:Aksum&#039;s Coffee
X-ORIGINAL-URL:https://aksumscoffee.nl
X-WR-CALDESC:Evenementen voor Aksum&#039;s Coffee
REFRESH-INTERVAL;VALUE=DURATION:PT1H
X-Robots-Tag:noindex
X-PUBLISHED-TTL:PT1H
BEGIN:VTIMEZONE
TZID:UTC
BEGIN:STANDARD
TZOFFSETFROM:+0000
TZOFFSETTO:+0000
TZNAME:UTC
DTSTART:20230101T000000
END:STANDARD
END:VTIMEZONE
BEGIN:VEVENT
DTSTART;TZID=UTC:20250420T080000
DTEND;TZID=UTC:20250421T170000
DTSTAMP:20260421T121940
CREATED:20241230T230428Z
LAST-MODIFIED:20241230T230912Z
UID:3050-1745136000-1745254800@aksumscoffee.nl
SUMMARY:
DESCRIPTION:Easter gathering..! \nSee you soon.. 😉
URL:https://aksumscoffee.nl/event/3050/
LOCATION:nijmegen\, Netherlands
CATEGORIES:Charity gathering
ATTACH;FMTTYPE=image/png:https://aksumscoffee.nl/wp-content/uploads/ele-custom-shapes/Easter-25.png
END:VEVENT
BEGIN:VEVENT
DTSTART;TZID=UTC:20241231T180000
DTEND;TZID=UTC:20241231T230000
DTSTAMP:20260421T121940
CREATED:20241230T231502Z
LAST-MODIFIED:20241230T231502Z
UID:3056-1735668000-1735686000@aksumscoffee.nl
SUMMARY:Zuidland
DESCRIPTION:End your year sipping our sips. \nCome join us\, your opinion matters <3 \n 
URL:https://aksumscoffee.nl/event/zuidland/
LOCATION:Zuidland\, Raadsheerenhoek 6 A-26\, Zuidland\, 3214 VR\, Netherlands
ATTACH;FMTTYPE=image/jpeg:https://aksumscoffee.nl/wp-content/uploads/2024/05/gall11-min-scaled-1.jpeg
END:VEVENT
BEGIN:VEVENT
DTSTART;TZID=UTC:20241114T010000
DTEND;TZID=UTC:20241115T170000
DTSTAMP:20260421T121940
CREATED:20241110T151746Z
LAST-MODIFIED:20241110T151747Z
UID:2801-1731546000-1731690000@aksumscoffee.nl
SUMMARY:Test event 1
DESCRIPTION:Test event 1 Test event 1 Test event 1 Test event 1 Test event 1 Test event 1 
URL:https://aksumscoffee.nl/event/test-event-1/
LOCATION:Spijkenisse\, Magnoliastraat 6C\, Spijkenisse\, Zuid-Holland\, 3202BX\, Netherlands
CATEGORIES:Cooffe bazar
ATTACH;FMTTYPE=image/jpeg:https://aksumscoffee.nl/wp-content/uploads/2024/05/gall4-min.jpeg
ORGANIZER;CN="Aksum's Coffee":MAILTO:bokhaiti.wam@gmail.com
END:VEVENT
END:VCALENDAR